BEGIN:VCALENDAR
VERSION:2.0
PRODID:-//Tulsa Area Clean Cities - ECPv6.13.1//NONSGML v1.0//EN
CALSCALE:GREGORIAN
METHOD:PUBLISH
X-ORIGINAL-URL:https://tulsacleancities.com
X-WR-CALDESC:Events for Tulsa Area Clean Cities
REFRESH-INTERVAL;VALUE=DURATION:PT1H
X-Robots-Tag:noindex
X-PUBLISHED-TTL:PT1H
BEGIN:VTIMEZONE
TZID:America/Chicago
BEGIN:DAYLIGHT
TZOFFSETFROM:-0600
TZOFFSETTO:-0500
TZNAME:CDT
DTSTART:20240310T080000
END:DAYLIGHT
BEGIN:STANDARD
TZOFFSETFROM:-0500
TZOFFSETTO:-0600
TZNAME:CST
DTSTART:20241103T070000
END:STANDARD
END:VTIMEZONE
BEGIN:VEVENT
DTSTART;VALUE=DATE:20241101
DTEND;VALUE=DATE:20241102
DTSTAMP:20260421T035425
CREATED:20241010T164324Z
LAST-MODIFIED:20241010T165817Z
UID:3176-1730419200-1730505599@tulsacleancities.com
SUMMARY:Applications close for 2024 Oklahoma Clean Diesel Program
DESCRIPTION:Funding opportunity for school districts to replace current diesel school buses with new diesel\, gasoline\, all-electric\, propane\, or natural gas buses. For more information\, visit the DEQ’s program page at this link: Oklahoma Clean Diesel (DERA) Program – Oklahoma Department of Environmental Quality
URL:https://tulsacleancities.com/calendar/applications-close-for-2024-oklahoma-clean-diesel-program/
END:VEVENT
END:VCALENDAR